BEGIN:VCALENDAR
VERSION:2.0
PRODID:-//Mckinney Sew and Vac - ECPv6.15.20//NONSGML v1.0//EN
CALSCALE:GREGORIAN
METHOD:PUBLISH
X-ORIGINAL-URL:https://mckinneysewandvac.com
X-WR-CALDESC:Events for Mckinney Sew and Vac
REFRESH-INTERVAL;VALUE=DURATION:PT1H
X-Robots-Tag:noindex
X-PUBLISHED-TTL:PT1H
BEGIN:VTIMEZONE
TZID:UTC
BEGIN:STANDARD
TZOFFSETFROM:+0000
TZOFFSETTO:+0000
TZNAME:UTC
DTSTART:20240101T000000
END:STANDARD
END:VTIMEZONE
BEGIN:VEVENT
DTSTART;TZID=UTC:20251106T100000
DTEND;TZID=UTC:20251106T130000
DTSTAMP:20260421T115028
CREATED:20251006T144419Z
LAST-MODIFIED:20251015T160521Z
UID:10000039-1762423200-1762434000@mckinneysewandvac.com
SUMMARY:Crazy For Techniques
DESCRIPTION:Discover the wonderful Pfaff accessories that are available for your sewing machine. Each month for 6 months\, we will experiment with various techniques that you can use towards many other projects. Your creation will look totally different from the sample here\, depending on the fabrics you choose. Call 336-274-6793 to register. \nPlease note: This class takes place across multiple sessions\, and each one builds on the last. Plan to join us for every date listed below to complete your project! \nNovember 6\, 2025 @ 10:00am – 1:00pm\nDecember 4\, 2025 @ 10:00am – 1:00pm\nJanuary 8\, 2026 @ 10:00am – 1:00pm\nFebruary 5\, 2026 @ 10:00am – 1:00pm\nMarch 5\, 2026 @ 10:00am – 1:00pm\nApril 2\, 2026 @ 10:00am – 1:00pm \n  \n 
URL:https://mckinneysewandvac.com/event/crazy-for-techniques/
LOCATION:Mckinney Sew and Vac\, 1710 Battleground Ave.\, Greensboro\, NC\, 27408\, United States
CATEGORIES:Multiple Classes
ATTACH;FMTTYPE=image/jpeg:https://mckinneysewandvac.com/wp-content/uploads/2025/10/Crazy-For-Techniques.jpg
ORGANIZER;CN="Mckinney Sew and Vac":MAILTO:mckinneysewvac@aol.com
END:VEVENT
END:VCALENDAR