BEGIN:VCALENDAR
VERSION:2.0
PRODID:-//Mckinney Sew and Vac - ECPv6.15.20//NONSGML v1.0//EN
CALSCALE:GREGORIAN
METHOD:PUBLISH
X-ORIGINAL-URL:https://mckinneysewandvac.com
X-WR-CALDESC:Events for Mckinney Sew and Vac
REFRESH-INTERVAL;VALUE=DURATION:PT1H
X-Robots-Tag:noindex
X-PUBLISHED-TTL:PT1H
BEGIN:VTIMEZONE
TZID:UTC
BEGIN:STANDARD
TZOFFSETFROM:+0000
TZOFFSETTO:+0000
TZNAME:UTC
DTSTART:20240101T000000
END:STANDARD
END:VTIMEZONE
BEGIN:VEVENT
DTSTART;TZID=UTC:20251006T080000
DTEND;TZID=UTC:20251006T170000
DTSTAMP:20260419T123406
CREATED:20251006T145629Z
LAST-MODIFIED:20251006T145629Z
UID:10000045-1759737600-1759770000@mckinneysewandvac.com
SUMMARY:Stained Glass Wall Hanging
DESCRIPTION:
URL:https://mckinneysewandvac.com/event/stained-glass-wall-hanging/
LOCATION:Mckinney Sew and Vac\, 1710 Battleground Ave.\, Greensboro\, NC\, 27408\, United States
CATEGORIES:Single Class
ATTACH;FMTTYPE=image/jpeg:https://mckinneysewandvac.com/wp-content/uploads/2025/10/Stained-Glass-Wall-Hanging.jpg
ORGANIZER;CN="Mckinney Sew and Vac":MAILTO:mckinneysewvac@aol.com
END:VEVENT
BEGIN:VEVENT
DTSTART;TZID=UTC:20251110T100000
DTEND;TZID=UTC:20251110T130000
DTSTAMP:20260419T123406
CREATED:20250924T141317Z
LAST-MODIFIED:20251013T174843Z
UID:10000037-1762768800-1762779600@mckinneysewandvac.com
SUMMARY:Be Mine Heart Zipper Pouch
DESCRIPTION:Choose your favorite scraps\, a fat quarter and a zipper and you will be ready to make the sweetest zipper pouch! Makes a perfect gift! Options to customize this project are included in the pattern. \nPlease note: This class takes place across multiple sessions\, and each one builds on the last. Plan to join us for every date listed below to complete your project! \nSeats are limited — please call McKinney Sew and Vac at (336) 274-6793 to reserve your spot. \nClass Dates:November 10\, 2025 @ 10:00am – 1:00pmNovember 18\, 2025 @ 10:00am – 1:00pm
URL:https://mckinneysewandvac.com/event/be-mine-heart-zipper-pouch/
LOCATION:Mckinney Sew and Vac\, 1710 Battleground Ave.\, Greensboro\, NC\, 27408\, United States
CATEGORIES:Single Class
ATTACH;FMTTYPE=image/jpeg:https://mckinneysewandvac.com/wp-content/uploads/2025/09/Be-Mine-Heart-Zipper-Pouch.jpg
ORGANIZER;CN="Mckinney Sew and Vac":MAILTO:mckinneysewvac@aol.com
END:VEVENT
BEGIN:VEVENT
DTSTART;TZID=UTC:20251117T100000
DTEND;TZID=UTC:20251117T130000
DTSTAMP:20260419T123406
CREATED:20250924T141023Z
LAST-MODIFIED:20251013T174931Z
UID:10000036-1763373600-1763384400@mckinneysewandvac.com
SUMMARY:Artsy Circles Table Topper or Wall Art
DESCRIPTION:Asymmetric fabric compositions are sewn together in different combinations with colorful stitches from your machine! This is a great way to experiment with all of the decorative stitches on your machine! \nPlease note: Seats are limited — please call McKinney Sew and Vac at (336) 274-6793 to reserve your spot.
URL:https://mckinneysewandvac.com/event/artsy-circles-table-topper-or-wall-art/
LOCATION:Mckinney Sew and Vac\, 1710 Battleground Ave.\, Greensboro\, NC\, 27408\, United States
CATEGORIES:Single Class
ATTACH;FMTTYPE=image/jpeg:https://mckinneysewandvac.com/wp-content/uploads/2025/09/Artsy_Circles_20250819071023.jpg
ORGANIZER;CN="Mckinney Sew and Vac":MAILTO:mckinneysewvac@aol.com
END:VEVENT
BEGIN:VEVENT
DTSTART;TZID=UTC:20260127T100000
DTEND;TZID=UTC:20260127T130000
DTSTAMP:20260419T123406
CREATED:20251219T205543Z
LAST-MODIFIED:20251219T211822Z
UID:10000055-1769508000-1769518800@mckinneysewandvac.com
SUMMARY:Bitsy Box
DESCRIPTION:This cute box measures 2 1/2″ square! Perfect for any small items that you may need to store or use for travel. I will also give you the dimensions to make it in 2 larger sizes. This is unlined but we will use our machine overcast stitches to make it neatly finished inside! Call 336-274-6793 to register.
URL:https://mckinneysewandvac.com/event/bitsy-box/2026-01-27/
LOCATION:Mckinney Sew and Vac\, 1710 Battleground Ave.\, Greensboro\, NC\, 27408\, United States
CATEGORIES:Single Class
ATTACH;FMTTYPE=image/jpeg:https://mckinneysewandvac.com/wp-content/uploads/2025/12/Bitsy-box-scaled.jpg
ORGANIZER;CN="Mckinney Sew and Vac":MAILTO:mckinneysewvac@aol.com
END:VEVENT
BEGIN:VEVENT
DTSTART;TZID=UTC:20260217T100000
DTEND;TZID=UTC:20260217T130000
DTSTAMP:20260419T123406
CREATED:20251219T220915Z
LAST-MODIFIED:20251219T223157Z
UID:10000065-1771322400-1771333200@mckinneysewandvac.com
SUMMARY:Field of Flowers
DESCRIPTION:A delightful\, scrappy field of flowers bloom on this 48″ x 60″ quilt. The pattern includes instructions for a 36″ square table topper and an 18″ x 42″ table runner. Learn how to use a Folded Corner ruler to make diagonal seams easy with no marking! We’ll make one block in class. 
URL:https://mckinneysewandvac.com/event/field-of-flowers/
LOCATION:Mckinney Sew and Vac\, 1710 Battleground Ave.\, Greensboro\, NC\, 27408\, United States
CATEGORIES:Single Class
ATTACH;FMTTYPE=image/jpeg:https://mckinneysewandvac.com/wp-content/uploads/2025/12/Field-of-Flowers-scaled.jpg
ORGANIZER;CN="Mckinney Sew and Vac":MAILTO:mckinneysewvac@aol.com
END:VEVENT
BEGIN:VEVENT
DTSTART;TZID=UTC:20260303T100000
DTEND;TZID=UTC:20260303T130000
DTSTAMP:20260419T123406
CREATED:20251219T211258Z
LAST-MODIFIED:20260211T163918Z
UID:10000054-1772532000-1772542800@mckinneysewandvac.com
SUMMARY:Bitsy Box
DESCRIPTION:This cute box measures 2 1/2″ square! Perfect for any small items that you may need to store or use for travel. I will also give you the dimensions to make it in 2 larger sizes. This is unlined but we will use our machine overcast stitches to make it neatly finished inside! Class fee is $15.
URL:https://mckinneysewandvac.com/event/bitsy-box-2/
LOCATION:Mckinney Sew and Vac\, 1710 Battleground Ave.\, Greensboro\, NC\, 27408\, United States
CATEGORIES:Single Class
ATTACH;FMTTYPE=image/jpeg:https://mckinneysewandvac.com/wp-content/uploads/2025/12/Bitsy-box-scaled.jpg
ORGANIZER;CN="Mckinney Sew and Vac":MAILTO:mckinneysewvac@aol.com
END:VEVENT
BEGIN:VEVENT
DTSTART;TZID=UTC:20260428T100000
DTEND;TZID=UTC:20260428T130000
DTSTAMP:20260419T123406
CREATED:20260203T193132Z
LAST-MODIFIED:20260220T140438Z
UID:10000104-1777370400-1777381200@mckinneysewandvac.com
SUMMARY:American Flag Wall Quilt - Machine Embroidery Software Class
DESCRIPTION:Celebrate 250 years of America with this machine embroidered wall hanging. This class is designed to teach you how to use your embroidery software\, purchased from us\, to create your own words. If you do not have embroidery software\, there is a free download version from Singer.com. Click on the Creativate tab at the top left of the screen\, then scroll down to the Basic version. Bring your laptop to class and we will help you create your own wording. Instructions to make the wall hanging\, and design files for the stars will be given in the class. You will stitch the project at home.
URL:https://mckinneysewandvac.com/event/american-flag-wall-quilt-machine-embroidery-software-class/2026-04-28/
LOCATION:Mckinney Sew and Vac\, 1710 Battleground Ave.\, Greensboro\, NC\, 27408\, United States
CATEGORIES:Single Class
ATTACH;FMTTYPE=image/jpeg:https://mckinneysewandvac.com/wp-content/uploads/2026/02/America-250-scaled.jpg
ORGANIZER;CN="Mckinney Sew and Vac":MAILTO:mckinneysewvac@aol.com
END:VEVENT
BEGIN:VEVENT
DTSTART;TZID=UTC:20260505T100000
DTEND;TZID=UTC:20260505T130000
DTSTAMP:20260419T123406
CREATED:20260203T200257Z
LAST-MODIFIED:20260203T200257Z
UID:10000095-1777975200-1777986000@mckinneysewandvac.com
SUMMARY:Bias Tape Applique
DESCRIPTION:We will make our own bias tape to create interesting blocks using medium to large scale prints. The bias tape creates circle patterns that would be suitable for a table runner\, place mats or panels for a tote bag. A special curved ruler makes it easy to be accurate. This class is one session and you will make several blocks in the class.\nTuesday\, May 5th\, or Thursday\, May 14th. Class fee is $15.
URL:https://mckinneysewandvac.com/event/bias-tape-applique/2026-05-05/
LOCATION:Mckinney Sew and Vac\, 1710 Battleground Ave.\, Greensboro\, NC\, 27408\, United States
CATEGORIES:Single Class
ATTACH;FMTTYPE=image/jpeg:https://mckinneysewandvac.com/wp-content/uploads/2026/02/Bias-Tape-Applique-scaled.jpg
ORGANIZER;CN="Mckinney Sew and Vac":MAILTO:mckinneysewvac@aol.com
END:VEVENT
BEGIN:VEVENT
DTSTART;TZID=UTC:20260514T100000
DTEND;TZID=UTC:20260514T130000
DTSTAMP:20260419T123406
CREATED:20260203T200257Z
LAST-MODIFIED:20260203T200257Z
UID:10000096-1778752800-1778763600@mckinneysewandvac.com
SUMMARY:Bias Tape Applique
DESCRIPTION:We will make our own bias tape to create interesting blocks using medium to large scale prints. The bias tape creates circle patterns that would be suitable for a table runner\, place mats or panels for a tote bag. A special curved ruler makes it easy to be accurate. This class is one session and you will make several blocks in the class.\nTuesday\, May 5th\, or Thursday\, May 14th. Class fee is $15.
URL:https://mckinneysewandvac.com/event/bias-tape-applique/2026-05-14/
LOCATION:Mckinney Sew and Vac\, 1710 Battleground Ave.\, Greensboro\, NC\, 27408\, United States
CATEGORIES:Single Class
ATTACH;FMTTYPE=image/jpeg:https://mckinneysewandvac.com/wp-content/uploads/2026/02/Bias-Tape-Applique-scaled.jpg
ORGANIZER;CN="Mckinney Sew and Vac":MAILTO:mckinneysewvac@aol.com
END:VEVENT
BEGIN:VEVENT
DTSTART;TZID=UTC:20260522T100000
DTEND;TZID=UTC:20260522T130000
DTSTAMP:20260419T123406
CREATED:20260203T193132Z
LAST-MODIFIED:20260220T140438Z
UID:10000092-1779444000-1779454800@mckinneysewandvac.com
SUMMARY:American Flag Wall Quilt - Machine Embroidery Software Class
DESCRIPTION:Celebrate 250 years of America with this machine embroidered wall hanging. This class is designed to teach you how to use your embroidery software\, purchased from us\, to create your own words. If you do not have embroidery software\, there is a free download version from Singer.com. Click on the Creativate tab at the top left of the screen\, then scroll down to the Basic version. Bring your laptop to class and we will help you create your own wording. Instructions to make the wall hanging\, and design files for the stars will be given in the class. You will stitch the project at home.
URL:https://mckinneysewandvac.com/event/american-flag-wall-quilt-machine-embroidery-software-class/2026-05-22/
LOCATION:Mckinney Sew and Vac\, 1710 Battleground Ave.\, Greensboro\, NC\, 27408\, United States
CATEGORIES:Single Class
ATTACH;FMTTYPE=image/jpeg:https://mckinneysewandvac.com/wp-content/uploads/2026/02/America-250-scaled.jpg
ORGANIZER;CN="Mckinney Sew and Vac":MAILTO:mckinneysewvac@aol.com
END:VEVENT
END:VCALENDAR